BEGIN:VCALENDAR
VERSION:2.0
PRODID:icalendar-ruby
CALSCALE:GREGORIAN
METHOD:PUBLISH
BEGIN:VEVENT
DTSTAMP:20260426T014219Z
UID:339-357003@ontario.anglican.ca
DTSTART:20260812T180000Z
DTEND:20260812T200000Z
CLASS:PUBLIC
CREATED:20260425T195805
DESCRIPTION:You are invited to join the Veterans’ Group at St. Mark’s A
 nglican Church Hall every Wednesday afternoon at 1400 hr for a time of fel
 lowship and discussion. It is open to serving and retired members of the C
 AF. This is a safe place and time to meet and chat with alike others.\nFor
  more information please contact Ted Davie at (613) 373-0115 or email tedd
 avie75@outlook.com or Melody in the church office: (613) 546-3386.\n 
LAST-MODIFIED:20260425T195805
LOCATION:St. Mark's Church\, 268 Main Street\, Barriefield/Kingston East
SUMMARY:Veteran's Fellowship at St. Mark's Church
URL;VALUE=URI:https://ontario.anglican.ca/events/veterans-fellowship-at-st-
 marks-church/2026-08-12
ATTACH;FILENAME=Canadian-Forces.png;FMTTYPE=image/png:https://dq5pwpg1q8ru0
 .cloudfront.net/2023/11/08/14/27/03/8c585251-58a0-4459-b18f-ec307e4b0e1b/C
 anadian-Forces.png
END:VEVENT
END:VCALENDAR
