BEGIN:VCALENDAR
VERSION:2.0
PRODID:icalendar-ruby
CALSCALE:GREGORIAN
METHOD:PUBLISH
BEGIN:VEVENT
DTSTAMP:20260424T071510Z
UID:641-311726@ontario.anglican.ca
DTSTART:20260225T183000Z
DTEND:20260225T193000Z
CLASS:PUBLIC
CREATED:20260218T112232
DESCRIPTION:This year\, the Cathedral is offering book studies based on "To
  Love and Serve: Anglican Beliefs and Practices" by Scott Gunn. The Right 
 Reverend William Cliff has encouraged all parishes in the Diocese of Ontar
 io to study this book.\nThe Cathedral will be offering two studies concurr
 ently through the year:\nWednesday\, 1:30pm (led by Fr. Gerry Moore)\nThur
 sday\, 7:00pm (led by Dean Douglas Michael)\n“To Love and Serve is a cle
 ar and engaging introduction to the life and customs of our particular exp
 ression of church\, the Anglican Church of Canada. Here\, we are invited t
 o explore a faith community rooted in scripture\, centred in worship and o
 pen to a life of love in action. This is a great resource for seekers and 
 long-term members alike.”\nTo participate\, you need not attend every we
 ek. Pop in as you are able. It is highly encouraged that you attend the fi
 rst section if possible.\nUpcoming Lenten Dates: \nFeb 25/26: Introductio
 n and Chapter 1 \nMarch 4/5: Chapters 2 &amp\; 3 (Baptismal Beliefs &amp\
 ; Practices)\nMarch 11/12: Chapters 4 &amp\; 5 (Eucharistic Beliefs &amp\;
  Practices)\nMarch 18/19: Chapter 12 (The Burial Office\, Death &amp\; Res
 surection)\nPlease get in touch with Ann Wilkinson (office@stgeorgescathed
 ral.ca) to obtain a copy of the book.
LAST-MODIFIED:20260218T112232
LOCATION:St. George's Cathedral\, 270 King Street East\, Kingston\, Ontario
SUMMARY:St. George's Cathedral Book Study
URL;VALUE=URI:https://ontario.anglican.ca/events/st-georges-cathedral-book-
 study/2026-02-25
ATTACH;FILENAME=Cathedral-To-Love-and-Serve.jpg;FMTTYPE=image/jpeg:https://
 dq5pwpg1q8ru0.cloudfront.net/2026/02/18/16/11/39/b6051ad8-aac6-44d3-a7a6-c
 4ee163b15c3/Cathedral-To-Love-and-Serve.jpg
END:VEVENT
END:VCALENDAR
