BEGIN:VCALENDAR
VERSION:2.0
PRODID:icalendar-ruby
CALSCALE:GREGORIAN
METHOD:PUBLISH
BEGIN:VEVENT
DTSTAMP:20260424T121906Z
UID:648-321733@ontario.anglican.ca
DTSTART:20260409T160000Z
DTEND:20260409T165500Z
CLASS:PUBLIC
CREATED:20260306T093822
DESCRIPTION:Melos Choir &amp\; Players present heavenly 16th c. choral work
 s based on the popular Medieval and Renaissance tunes Nigra sum sed formos
 a and the love song\, Ancor che col partire.\nMusic of Tomas Luis da Victo
 ria\, Jean l’Heritier\, Cipriano de Rore &amp\; Jacquet de Mantua.   
LAST-MODIFIED:20260306T093822
LOCATION:St. George's Cathedral\, 270 King Street East\, Kingston\, Ontario
SUMMARY:Serene Sounds of the Renaissance
URL;VALUE=URI:https://ontario.anglican.ca/events/serene-sounds-of-the-renai
 ssance/2026-04-09
ATTACH;FILENAME=Melos-Rennaisance.png;FMTTYPE=image/png:https://dq5pwpg1q8r
 u0.cloudfront.net/2026/03/06/14/38/21/a5df05c2-3308-4d5f-aee8-f9b251e4b33a
 /Melos-Rennaisance.png
END:VEVENT
END:VCALENDAR
