BEGIN:VCALENDAR
VERSION:2.0
PRODID:icalendar-ruby
CALSCALE:GREGORIAN
METHOD:PUBLISH
BEGIN:VEVENT
DTSTAMP:20260425T104904Z
UID:377-320105@ontario.anglican.ca
DTSTART:20260331T160000Z
DTEND:20260331T170000Z
CLASS:PUBLIC
CREATED:20260303T144148
DESCRIPTION:All are welcome to attend the annual Lenten Renewal of Vows and
  Blessing of Oils service. This liturgy is a chance for us to come away fr
 om our day to day responsibilities for the day and spend time with one ano
 ther and to renew ourselves in fellowship and community.\nThe focus of thi
 s service is our renewal of the sacred pledges we have made in ministry an
 d the anointing of God which saturates our work. All of this takes place i
 n the midst of the drama of Holy Week as we move from garden to upper room
 \, from Pilate's palace to Golgotha\, and finally to the hope of the open 
 and empty tomb.\nAll clergy\, lay readers and lay members of our diocese a
 re encouraged to attend this Eucharistic service with the Renewal of Vows 
 and the Blessing of Oils at St. George’s Cathedral on Tuesday March 31 a
 t 12 noon to renew their commitment to their ministry. The liturgical colo
 r for the service will be red.
LAST-MODIFIED:20260303T144148
LOCATION:St. George's Cathedral\, 270 King Street East\, Kingston\, Ontario
SUMMARY:Renewal of Vows Blessing of Oils service
URL;VALUE=URI:https://ontario.anglican.ca/events/renewal-of-vows-blessing-o
 f-oils-service--377/2026-03-31
ATTACH;FILENAME=Blessing-of-Oils-Renewal-of-Vows.png;FMTTYPE=image/png:http
 s://dq5pwpg1q8ru0.cloudfront.net/2024/01/30/20/42/25/cbe9f1bf-ad34-4678-a0
 40-6f22990677cd/Blessing-of-Oils-Renewal-of-Vows.png
END:VEVENT
END:VCALENDAR
