BEGIN:VCALENDAR
VERSION:2.0
PRODID:icalendar-ruby
CALSCALE:GREGORIAN
METHOD:PUBLISH
BEGIN:VEVENT
DTSTAMP:20260424T204112Z
UID:520-234438@ontario.anglican.ca
DTSTART:20250517T180000Z
DTEND:20250517T200000Z
CLASS:PUBLIC
CREATED:20250506T145240
DESCRIPTION:We are thrilled to invite you to a special celebration of music
 \, community\, and Canadian heritage! Join us for O’Canada – Let’s F
 iddle\, marking the 10th anniversary of National Fiddling Day in Canada. 
 \nThis event will be held at St. Luke’s Church\, 236 Nelson Street\, Kin
 gston on SATURDAY\, May 17\, 2025 from 2:00 to 4:00PM.\nCelebrate with us 
 as we bring together talented fiddlers for an unforgettable afternoon of f
 iddle and song!  There will be cake and goodies. Free-will offering at th
 e door.  \nCost: FREE-WILL offering.\nFor more information please contact
  Dave at reelman@live.ca.
LAST-MODIFIED:20250506T145240
LOCATION:St. Luke’s Church\, 236 Nelson Street\, Kingston
SUMMARY: National Fiddling Day Anniversary Event
URL;VALUE=URI:https://ontario.anglican.ca/events/national-fiddling-day-anni
 versary-event/2025-05-17
ATTACH;FILENAME=Fiddle-Celtic.png;FMTTYPE=image/png:https://dq5pwpg1q8ru0.c
 loudfront.net/2025/05/06/18/52/39/ad40280b-7f76-4345-8e0c-7d043f8c59ab/Fid
 dle-Celtic.png
END:VEVENT
END:VCALENDAR
