BEGIN:VCALENDAR
VERSION:2.0
PRODID:icalendar-ruby
CALSCALE:GREGORIAN
METHOD:PUBLISH
BEGIN:VEVENT
DTSTAMP:20260426T024202Z
UID:340-265212@ontario.anglican.ca
DTSTART:20260615T130000Z
DTEND:20260615T143000Z
CLASS:PUBLIC
CREATED:20250905T110049
DESCRIPTION:The Men’s Group gathers each Monday morning from 9:00 am to 1
 0:30 am in the parish hall at St. Mark’s Church for a time of lively con
 versation\, discussion\, learning\, and Christian fellowship.\nThe group w
 armly welcomes all who feel called to serve God and the community\, from b
 oth within and outside the parish.   Sometimes we discuss challenging and
  emotive issues\, but we acknowledge and respect each other’s individual
  calling and faith journey\, and always seek to treat each other with love
  and courtesy.  \nFor further details\, contact Alan Rumsey\, John Barron
 \, Paul Yaxley or the church office at 613-546-3386.
LAST-MODIFIED:20250905T110049
LOCATION:St. Mark's Church\, 268 Main Street\, Barriefield/Kingston East
SUMMARY:Men’s Fellowship at St. Mark’s Church
URL;VALUE=URI:https://ontario.anglican.ca/events/men-s-fellowship-at-st-mar
 k-s-church/2026-06-15
ATTACH;FILENAME=Men%27s-Fellowship-Group-on-Mondays.png;FMTTYPE=image/png:h
 ttps://dq5pwpg1q8ru0.cloudfront.net/2025/09/02/18/52/10/3b9b6230-1e9a-42da
 -8234-82ed351b6635/Men%2527s-Fellowship-Group-on-Mondays.png
END:VEVENT
END:VCALENDAR
