BEGIN:VCALENDAR
VERSION:2.0
PRODID:icalendar-ruby
CALSCALE:GREGORIAN
METHOD:PUBLISH
BEGIN:VEVENT
DTSTAMP:20260424T204113Z
UID:653-338651@ontario.anglican.ca
DTSTART:20260425T120000Z
DTEND:20260425T180000Z
CLASS:PUBLIC
CREATED:20260331T102606
DESCRIPTION:St. John's is hosting an indoor yard sale on Saturday April 25.
  All sorts of items are available for purchase: Books\, bedding\, small ap
 pliances. Come and browse. Prices will be marked on most items.  \nFor mo
 re information please contact Elaine Sawkins at (613) 473-2931 or email un
 clewalt@sympatico.ca.
LAST-MODIFIED:20260331T102606
LOCATION:St. John's Anglican Church\, 115 Durham St. N. Madoc
SUMMARY: Giant Indoor Yard Sale
URL;VALUE=URI:https://ontario.anglican.ca/events/giant-indoor-yard-sale/202
 6-04-25
ATTACH;FILENAME=Yard-Sale.png;FMTTYPE=image/png:https://dq5pwpg1q8ru0.cloud
 front.net/2026/03/31/14/26/06/bc1a845c-07bf-4266-b814-8affe265aaec/Yard-Sa
 le.png
END:VEVENT
END:VCALENDAR
