BEGIN:VCALENDAR
VERSION:2.0
PRODID:icalendar-ruby
CALSCALE:GREGORIAN
METHOD:PUBLISH
BEGIN:VEVENT
DTSTAMP:20260424T132502Z
UID:660-354439@ontario.anglican.ca
DTSTART:20260424T233000Z
DTEND:20260425T010000Z
CLASS:PUBLIC
CREATED:20260422T135114
DESCRIPTION:Christ Church Anglican invites the community to a special Fundr
 aising Concert for Organ Restoration on Friday\, April 24\, 2026\, at 7:30
  pm\, at 39 Everett Street\, Belleville. The evening will feature the Carp
 e Diem String Ensemble\, directed by Joel Bootsma\, with soloists Debbie S
 haw (flute)\, Emanda Richards (organ)\, and Karen Archer (clarinet).\nTick
 ets are $20\, available at the door. All proceeds will support the restora
 tion of Christ Church’s historic organ.
LAST-MODIFIED:20260422T135114
LOCATION:Christ Church Belleville\, 39 Everett St.\, Belleville.
SUMMARY:Fundraising concert for Organ Restoration
URL;VALUE=URI:https://ontario.anglican.ca/events/fundraising-concert-for-or
 gan-restoration/2026-04-24
ATTACH;FILENAME=Christ-Church-Belleville.jpg;FMTTYPE=image/jpeg:https://dq5
 pwpg1q8ru0.cloudfront.net/2026/04/22/17/51/13/e910dd5c-e2b6-4838-b887-7bb5
 56a8d15a/Christ-Church-Belleville.jpg
END:VEVENT
END:VCALENDAR
