BEGIN:VCALENDAR
VERSION:2.0
PRODID:icalendar-ruby
CALSCALE:GREGORIAN
METHOD:PUBLISH
BEGIN:VEVENT
DTSTAMP:20260425T120659Z
UID:228-321296@ontario.anglican.ca
DTSTART:20260506T130000Z
DTEND:20260506T190000Z
CLASS:PUBLIC
CREATED:20260305T144904
DESCRIPTION:The Diocesan A.C.W. annual meeting will be held on Wednesday\, 
 May 6\, 2026 at Christ Church\, Kingston.\nRegistration starts at 9am with
  refreshments provided. At 10 am\, Holy Eucharist will be celebrated by Bi
 shop William Cliff.\nThe guest speaker is Tricia Archambault from Family a
 nd Children Services\, Frontenac\, Lennox and Addington. She will speak ab
 out the organization itself as well as talk about events and opportunities
  that are available with FACSFLA.\nTo register\, please contact your Regio
 nal President\n\nFrontenac – Maureen Butler at 623-389-7897 or Maureen_b
 utler@hotmail.com\nLeeds &amp\; Grenville – Margie Mulvihill at 613-342-
 3281 or margiemulvihill@gmail.com\nHastings/Quinte – Pam Park at 613-969
 -8942 or pampark38@gmail.com\n
LAST-MODIFIED:20260305T144904
LOCATION:Christ Church Kingston\, 990 Sydenham Road\, Kingston
SUMMARY:Diocese of Ontario A.C.W. AGM
URL;VALUE=URI:https://ontario.anglican.ca/events/diocese-of-ontario-a-c-w-a
 gm/2026-05-06
ATTACH;FILENAME=Annual-General-Meeting.png;FMTTYPE=image/png:https://dq5pwp
 g1q8ru0.cloudfront.net/2023/01/31/14/06/48/2d8a0fd1-b2f5-4eb9-8703-2933b5a
 5bd09/Annual-General-Meeting.png
END:VEVENT
END:VCALENDAR
