BEGIN:VCALENDAR
VERSION:2.0
PRODID:icalendar-ruby
CALSCALE:GREGORIAN
METHOD:PUBLISH
BEGIN:VEVENT
DTSTAMP:20260425T104905Z
UID:497-316263@ontario.anglican.ca
DTSTART:20260329T200000Z
DTEND:20260329T210000Z
CLASS:PUBLIC
CREATED:20260225T135443
DESCRIPTION:Bishop William Cliff will hold a service of Evensong at His Maj
 esty's Chapel Royal of the Mohawk on Sunday March 29\, 2026. Evensong (oth
 erwise known as Evening Prayer) is a worship service consisting of psalms\
 , Bible readings\, prayers and hymns held in the evening and enjoys a long
  and important tradition in the Anglican Church.\nThe service will begin a
 t 4 pm. The bishop will preside as the Bishop Ordinary of the chapel. All 
 are welcome.\nFor those who wish to join the choir that day\, music rehear
 sal is open to all who wish to sing. Music rehearsal begins at 3 pm. Pleas
 e bring your own choir robes. Christ Church Chapel Royal\, 52 South Church
  Lane\, Tyendinaga Mohawk Territory.
LAST-MODIFIED:20260225T135443
LOCATION:Christ Church Chapel Royal\, 52 South Church Lane\, Tyendinaga Moh
 awk Territory
SUMMARY:Bishop's Evensong at Christ Church Tyendinaga
URL;VALUE=URI:https://ontario.anglican.ca/events/bishops-evensong-at-christ
 -church-tyendinaga--497/2026-03-29
ATTACH;FILENAME=Tyendinaga-Evensong.png;FMTTYPE=image/png:https://dq5pwpg1q
 8ru0.cloudfront.net/2025/02/26/20/01/57/e0c23c0a-23b5-4570-b36a-a9c6db3802
 35/Tyendinaga-Evensong.png
END:VEVENT
END:VCALENDAR
