BEGIN:VCALENDAR
VERSION:2.0
PRODID:icalendar-ruby
CALSCALE:GREGORIAN
METHOD:PUBLISH
BEGIN:VEVENT
DTSTAMP:20260425T134747Z
UID:656-339459@ontario.anglican.ca
DTSTART:20260508T211000Z
DTEND:20260508T230000Z
CLASS:PUBLIC
CREATED:20260401T150422
DESCRIPTION:The Kingston Baroque Consort's season finale includes Brandenbu
 rg Concerto No. 4 by J.S. Bach\, Arrival of the Queen of Sheba by G.F. Han
 del\, nd others.\nCost: $25 (adults) $10 (students) free for under 17. \n
 For tickets contact Katie Legere: legerek@queensu.ca\, 613-217-5099\, or a
 t the door. Visit kingstonbaroqueconsort.ca for details.
LAST-MODIFIED:20260401T150422
LOCATION:St. James Anglican Church\, 10 Union Street Kingston.
SUMMARY:Baroque Celebration Feast
URL;VALUE=URI:https://ontario.anglican.ca/events/baroque-celebration-feast/
 2026-05-08
ATTACH;FILENAME=Kingston-Barocque-Consort.jpg;FMTTYPE=image/jpeg:https://dq
 5pwpg1q8ru0.cloudfront.net/2026/04/01/19/04/22/09fbce9e-5bec-45b0-a6fa-113
 8846f5933/Kingston-Barocque-Consort.jpg
END:VEVENT
END:VCALENDAR
