BEGIN:VCALENDAR
VERSION:2.0
PRODID:icalendar-ruby
CALSCALE:GREGORIAN
METHOD:PUBLISH
BEGIN:VEVENT
DTSTAMP:20260423T215206Z
UID:655-338653@ontario.anglican.ca
DTSTART:20260422T180000Z
DTEND:20260422T190000Z
CLASS:PUBLIC
CREATED:20260331T112643
DESCRIPTION:St. John's is hosting a workshop about advanced care planning e
 xplaining the importance of having a power of attorney. \nFor more inform
 ation please contact the The Rev. Michael Rice at (613) 885-8875 or email 
 mike1956rice@gmail.com.
LAST-MODIFIED:20260331T112643
LOCATION:St. John's Anglican Church\, 115 Durham St. N. Madoc
SUMMARY:Advanced Care Planning
URL;VALUE=URI:https://ontario.anglican.ca/events/advanced-care-planning/202
 6-04-22
ATTACH;FILENAME=Power-of-Attorney.png;FMTTYPE=image/png:https://dq5pwpg1q8r
 u0.cloudfront.net/2026/03/31/15/26/43/2d3e0453-e4ff-40a6-a68c-4e019cc56ac3
 /Power-of-Attorney.png
END:VEVENT
END:VCALENDAR
